BEGIN:VCALENDAR
VERSION:2.0
PRODID:icalendar-ruby
CALSCALE:GREGORIAN
METHOD:PUBLISH
BEGIN:VEVENT
DTSTAMP:20260421T161245Z
UID:14-4299240@eng.lordsgrace.ca
DTSTART:20260816T182500Z
DTEND:20260816T194500Z
CLASS:PUBLIC
CREATED:20260421T064531
DESCRIPTION:Children's Worship
LAST-MODIFIED:20260421T064531
LOCATION:Chapel and Library
SUMMARY:Children's Worship
URL;VALUE=URI:https://eng.lordsgrace.ca/events/childrens-worship--14/2026-0
 8-16
END:VEVENT
END:VCALENDAR
