BEGIN:VCALENDAR
VERSION:2.0
PRODID:icalendar-ruby
CALSCALE:GREGORIAN
METHOD:PUBLISH
BEGIN:VEVENT
DTSTAMP:20260421T204439Z
UID:14-4302731@eng.lordsgrace.ca
DTSTART:20260906T182500Z
DTEND:20260906T194500Z
CLASS:PUBLIC
CREATED:20260421T120117
DESCRIPTION:Children's Worship
LAST-MODIFIED:20260421T120117
LOCATION:Chapel and Library
SUMMARY:Children's Worship
URL;VALUE=URI:https://eng.lordsgrace.ca/events/childrens-worship--14/2026-0
 9-06
END:VEVENT
END:VCALENDAR
