BEGIN:VCALENDAR
VERSION:2.0
PRODID:icalendar-ruby
CALSCALE:GREGORIAN
METHOD:PUBLISH
BEGIN:VEVENT
DTSTAMP:20260421T222109Z
UID:14-4304476@eng.lordsgrace.ca
DTSTART:20260913T182500Z
DTEND:20260913T194500Z
CLASS:PUBLIC
CREATED:20260421T143824
DESCRIPTION:Children's Worship
LAST-MODIFIED:20260421T143824
LOCATION:Chapel and Library
SUMMARY:Children's Worship
URL;VALUE=URI:https://eng.lordsgrace.ca/events/childrens-worship--14/2026-0
 9-13
END:VEVENT
END:VCALENDAR
