BEGIN:VCALENDAR
VERSION:2.0
PRODID:icalendar-ruby
CALSCALE:GREGORIAN
METHOD:PUBLISH
BEGIN:VEVENT
DTSTAMP:20260421T233656Z
UID:14-4304477@eng.lordsgrace.ca
DTSTART:20260920T182500Z
DTEND:20260920T194500Z
CLASS:PUBLIC
CREATED:20260421T143824
DESCRIPTION:Children's Worship
LAST-MODIFIED:20260421T143824
LOCATION:Chapel and Library
SUMMARY:Children's Worship
URL;VALUE=URI:https://eng.lordsgrace.ca/events/childrens-worship--14/2026-0
 9-20
END:VEVENT
END:VCALENDAR
