BEGIN:VCALENDAR
VERSION:2.0
PRODID:icalendar-ruby
CALSCALE:GREGORIAN
METHOD:PUBLISH
BEGIN:VEVENT
DTSTAMP:20260422T005648Z
UID:14-4306222@eng.lordsgrace.ca
DTSTART:20260927T182500Z
DTEND:20260927T194500Z
CLASS:PUBLIC
CREATED:20260421T171706
DESCRIPTION:Children's Worship
LAST-MODIFIED:20260421T171706
LOCATION:Chapel and Library
SUMMARY:Children's Worship
URL;VALUE=URI:https://eng.lordsgrace.ca/events/childrens-worship--14/2026-0
 9-27
END:VEVENT
END:VCALENDAR
