BEGIN:VCALENDAR
VERSION:2.0
PRODID:icalendar-ruby
CALSCALE:GREGORIAN
METHOD:PUBLISH
BEGIN:VEVENT
DTSTAMP:20260422T081907Z
UID:14-4306227@eng.lordsgrace.ca
DTSTART:20261101T192500Z
DTEND:20261101T204500Z
CLASS:PUBLIC
CREATED:20260421T171706
DESCRIPTION:Children's Worship
LAST-MODIFIED:20260421T171706
LOCATION:Chapel and Library
SUMMARY:Children's Worship
URL;VALUE=URI:https://eng.lordsgrace.ca/events/childrens-worship--14/2026-1
 1-01
END:VEVENT
END:VCALENDAR
