BEGIN:VCALENDAR
VERSION:2.0
PRODID:icalendar-ruby
CALSCALE:GREGORIAN
METHOD:PUBLISH
BEGIN:VEVENT
DTSTAMP:20260421T202548Z
UID:5-4301759@eng.lordsgrace.ca
DTSTART:20261004T181500Z
DTEND:20261004T193000Z
CLASS:PUBLIC
CREATED:20260421T120116
DESCRIPTION:English Service
LAST-MODIFIED:20260421T120116
LOCATION:Kitsilano Neighborhood House
SUMMARY:English Worship Service
URL;VALUE=URI:https://eng.lordsgrace.ca/events/english-worship-service/2026
 -10-04
END:VEVENT
END:VCALENDAR
