BEGIN:VCALENDAR
VERSION:2.0
PRODID:icalendar-ruby
CALSCALE:GREGORIAN
METHOD:PUBLISH
BEGIN:VEVENT
DTSTAMP:20260421T232347Z
UID:5-4303505@eng.lordsgrace.ca
DTSTART:20261018T181500Z
DTEND:20261018T193000Z
CLASS:PUBLIC
CREATED:20260421T143823
DESCRIPTION:English Service
LAST-MODIFIED:20260421T143823
LOCATION:Kitsilano Neighborhood House
SUMMARY:English Worship Service
URL;VALUE=URI:https://eng.lordsgrace.ca/events/english-worship-service/2026
 -10-18
END:VEVENT
END:VCALENDAR
