BEGIN:VCALENDAR
VERSION:2.0
PRODID:icalendar-ruby
CALSCALE:GREGORIAN
METHOD:PUBLISH
BEGIN:VEVENT
DTSTAMP:20260422T005801Z
UID:5-4305250@eng.lordsgrace.ca
DTSTART:20261025T181500Z
DTEND:20261025T193000Z
CLASS:PUBLIC
CREATED:20260421T171705
DESCRIPTION:English Service
LAST-MODIFIED:20260421T171705
LOCATION:Kitsilano Neighborhood House
SUMMARY:English Worship Service
URL;VALUE=URI:https://eng.lordsgrace.ca/events/english-worship-service/2026
 -10-25
END:VEVENT
END:VCALENDAR
