BEGIN:VCALENDAR
VERSION:2.0
PRODID:icalendar-ruby
CALSCALE:GREGORIAN
METHOD:PUBLISH
BEGIN:VEVENT
DTSTAMP:20260422T022801Z
UID:5-4305251@eng.lordsgrace.ca
DTSTART:20261101T191500Z
DTEND:20261101T203000Z
CLASS:PUBLIC
CREATED:20260421T171705
DESCRIPTION:English Service
LAST-MODIFIED:20260421T171705
LOCATION:Kitsilano Neighborhood House
SUMMARY:English Worship Service
URL;VALUE=URI:https://eng.lordsgrace.ca/events/english-worship-service/2026
 -11-01
END:VEVENT
END:VCALENDAR
