BEGIN:VCALENDAR
VERSION:2.0
PRODID:icalendar-ruby
CALSCALE:GREGORIAN
METHOD:PUBLISH
BEGIN:VEVENT
DTSTAMP:20260419T175356Z
UID:11-4277706@eng.lordsgrace.ca
DTSTART:20240310T163000Z
DTEND:20240310T181500Z
CLASS:PUBLIC
CREATED:20260419T082203
DESCRIPTION:LGC KidZone
LAST-MODIFIED:20260419T082203
LOCATION:Chapel and Library
SUMMARY:LGC KidZone
URL;VALUE=URI:https://eng.lordsgrace.ca/events/lgc-kidzone/2024-03-10
END:VEVENT
END:VCALENDAR
