BEGIN:VCALENDAR
VERSION:2.0
PRODID:icalendar-ruby
CALSCALE:GREGORIAN
METHOD:PUBLISH
BEGIN:VEVENT
DTSTAMP:20260419T193540Z
UID:11-4279445@eng.lordsgrace.ca
DTSTART:20240317T163000Z
DTEND:20240317T181500Z
CLASS:PUBLIC
CREATED:20260419T120413
DESCRIPTION:LGC KidZone
LAST-MODIFIED:20260419T120413
LOCATION:Chapel and Library
SUMMARY:LGC KidZone
URL;VALUE=URI:https://eng.lordsgrace.ca/events/lgc-kidzone/2024-03-17
END:VEVENT
END:VCALENDAR
