BEGIN:VCALENDAR
VERSION:2.0
PRODID:icalendar-ruby
CALSCALE:GREGORIAN
METHOD:PUBLISH
BEGIN:VEVENT
DTSTAMP:20260419T205701Z
UID:11-4279446@eng.lordsgrace.ca
DTSTART:20240324T163000Z
DTEND:20240324T181500Z
CLASS:PUBLIC
CREATED:20260419T120413
DESCRIPTION:LGC KidZone
LAST-MODIFIED:20260419T120413
LOCATION:Chapel and Library
SUMMARY:LGC KidZone
URL;VALUE=URI:https://eng.lordsgrace.ca/events/lgc-kidzone/2024-03-24
END:VEVENT
END:VCALENDAR
