BEGIN:VCALENDAR
VERSION:2.0
PRODID:icalendar-ruby
CALSCALE:GREGORIAN
METHOD:PUBLISH
BEGIN:VEVENT
DTSTAMP:20260420T005618Z
UID:11-4281190@eng.lordsgrace.ca
DTSTART:20240414T163000Z
DTEND:20240414T181500Z
CLASS:PUBLIC
CREATED:20260419T154702
DESCRIPTION:LGC KidZone
LAST-MODIFIED:20260419T154702
LOCATION:Chapel and Library
SUMMARY:LGC KidZone
URL;VALUE=URI:https://eng.lordsgrace.ca/events/lgc-kidzone/2024-04-14
END:VEVENT
END:VCALENDAR
