BEGIN:VCALENDAR
VERSION:2.0
PRODID:icalendar-ruby
CALSCALE:GREGORIAN
METHOD:PUBLISH
BEGIN:VEVENT
DTSTAMP:20260420T022817Z
UID:11-4282935@eng.lordsgrace.ca
DTSTART:20240421T163000Z
DTEND:20240421T181500Z
CLASS:PUBLIC
CREATED:20260419T192632
DESCRIPTION:LGC KidZone
LAST-MODIFIED:20260419T192632
LOCATION:Chapel and Library
SUMMARY:LGC KidZone
URL;VALUE=URI:https://eng.lordsgrace.ca/events/lgc-kidzone/2024-04-21
END:VEVENT
END:VCALENDAR
