BEGIN:VCALENDAR
VERSION:2.0
PRODID:icalendar-ruby
CALSCALE:GREGORIAN
METHOD:PUBLISH
BEGIN:VEVENT
DTSTAMP:20260420T054550Z
UID:11-4282937@eng.lordsgrace.ca
DTSTART:20240505T163000Z
DTEND:20240505T181500Z
CLASS:PUBLIC
CREATED:20260419T192632
DESCRIPTION:LGC KidZone
LAST-MODIFIED:20260419T192632
LOCATION:Chapel and Library
SUMMARY:LGC KidZone
URL;VALUE=URI:https://eng.lordsgrace.ca/events/lgc-kidzone/2024-05-05
END:VEVENT
END:VCALENDAR
