BEGIN:VCALENDAR
VERSION:2.0
PRODID:icalendar-ruby
CALSCALE:GREGORIAN
METHOD:PUBLISH
BEGIN:VEVENT
DTSTAMP:20260420T072002Z
UID:11-4284682@eng.lordsgrace.ca
DTSTART:20240512T163000Z
DTEND:20240512T181500Z
CLASS:PUBLIC
CREATED:20260419T230325
DESCRIPTION:LGC KidZone
LAST-MODIFIED:20260419T230325
LOCATION:Chapel and Library
SUMMARY:LGC KidZone
URL;VALUE=URI:https://eng.lordsgrace.ca/events/lgc-kidzone/2024-05-12
END:VEVENT
END:VCALENDAR
