BEGIN:VCALENDAR
VERSION:2.0
PRODID:icalendar-ruby
CALSCALE:GREGORIAN
METHOD:PUBLISH
BEGIN:VEVENT
DTSTAMP:20260420T131840Z
UID:11-4286430@eng.lordsgrace.ca
DTSTART:20240609T163000Z
DTEND:20240609T181500Z
CLASS:PUBLIC
CREATED:20260420T040838
DESCRIPTION:LGC KidZone
LAST-MODIFIED:20260420T040838
LOCATION:Chapel and Library
SUMMARY:LGC KidZone
URL;VALUE=URI:https://eng.lordsgrace.ca/events/lgc-kidzone/2024-06-09
END:VEVENT
END:VCALENDAR
