BEGIN:VCALENDAR
VERSION:2.0
PRODID:icalendar-ruby
CALSCALE:GREGORIAN
METHOD:PUBLISH
BEGIN:VEVENT
DTSTAMP:20260420T145809Z
UID:11-4288175@eng.lordsgrace.ca
DTSTART:20240616T163000Z
DTEND:20240616T181500Z
CLASS:PUBLIC
CREATED:20260420T064416
DESCRIPTION:LGC KidZone
LAST-MODIFIED:20260420T064416
LOCATION:Chapel and Library
SUMMARY:LGC KidZone
URL;VALUE=URI:https://eng.lordsgrace.ca/events/lgc-kidzone/2024-06-16
END:VEVENT
END:VCALENDAR
