BEGIN:VCALENDAR
VERSION:2.0
PRODID:icalendar-ruby
CALSCALE:GREGORIAN
METHOD:PUBLISH
BEGIN:VEVENT
DTSTAMP:20260420T163447Z
UID:11-4289920@eng.lordsgrace.ca
DTSTART:20240623T163000Z
DTEND:20240623T181500Z
CLASS:PUBLIC
CREATED:20260420T091816
DESCRIPTION:LGC KidZone
LAST-MODIFIED:20260420T091816
LOCATION:Chapel and Library
SUMMARY:LGC KidZone
URL;VALUE=URI:https://eng.lordsgrace.ca/events/lgc-kidzone/2024-06-23
END:VEVENT
END:VCALENDAR
