BEGIN:VCALENDAR
VERSION:2.0
PRODID:icalendar-ruby
CALSCALE:GREGORIAN
METHOD:PUBLISH
BEGIN:VEVENT
DTSTAMP:20260420T181113Z
UID:11-4289921@eng.lordsgrace.ca
DTSTART:20240630T163000Z
DTEND:20240630T181500Z
CLASS:PUBLIC
CREATED:20260420T091816
DESCRIPTION:LGC KidZone
LAST-MODIFIED:20260420T091816
LOCATION:Chapel and Library
SUMMARY:LGC KidZone
URL;VALUE=URI:https://eng.lordsgrace.ca/events/lgc-kidzone/2024-06-30
END:VEVENT
END:VCALENDAR
