BEGIN:VCALENDAR
VERSION:2.0
PRODID:icalendar-ruby
CALSCALE:GREGORIAN
METHOD:PUBLISH
BEGIN:VEVENT
DTSTAMP:20260420T193812Z
UID:11-4291666@eng.lordsgrace.ca
DTSTART:20240707T163000Z
DTEND:20240707T181500Z
CLASS:PUBLIC
CREATED:20260420T115229
DESCRIPTION:LGC KidZone
LAST-MODIFIED:20260420T115229
LOCATION:Chapel and Library
SUMMARY:LGC KidZone
URL;VALUE=URI:https://eng.lordsgrace.ca/events/lgc-kidzone/2024-07-07
END:VEVENT
END:VCALENDAR
